BEGIN:VCALENDAR
VERSION:2.0
PRODID:-//wp-events-plugin.com//7.2.1//EN
TZID:Europe/Berlin
X-WR-TIMEZONE:Europe/Berlin
BEGIN:VEVENT
UID:1027@laubach-online.de
DTSTART:20240711T170000Z
DTEND:20240711T190000Z
DTSTAMP:20240626T114222Z
URL:https://laubach-online.de/events/sommerfest-am-laubach-kolleg-der-ekhn
 /
SUMMARY:Sommerfest am Laubach-Kolleg der EKHN
DESCRIPTION:Herzliche Einladung zum Sommerfest am Laubach-Kolleg!
ATTACH;FMTTYPE=image/jpeg:https://laubach-online.de/wp-content/uploads/202
 4/06/schule.jpg
CATEGORIES:Märkte &amp; Feste
END:VEVENT
END:VCALENDAR