BEGIN:VCALENDAR
VERSION:2.0
PRODID:-//wp-events-plugin.com//7.2.1//EN
TZID:Europe/Berlin
X-WR-TIMEZONE:Europe/Berlin
BEGIN:VEVENT
UID:1082@laubach-online.de
DTSTART:20250703T170000Z
DTEND:20250703T200000Z
DTSTAMP:20241107T152106Z
URL:https://laubach-online.de/events/sommerfest-am-laubach-kolleg/
SUMMARY:Sommerfest am Laubach-Kolleg
DESCRIPTION:
ATTACH;FMTTYPE=image/jpeg:https://laubach-online.de/wp-content/uploads/202
 4/11/laubach-kolleg.jpg
END:VEVENT
END:VCALENDAR