BEGIN:VCALENDAR
VERSION:2.0
PRODID:-//wp-events-plugin.com//7.2.1//EN
TZID:Europe/Berlin
X-WR-TIMEZONE:Europe/Berlin
BEGIN:VEVENT
UID:1349@laubach-online.de
DTSTART:20250524T140000Z
DTEND:20250524T180000Z
DTSTAMP:20250513T104137Z
URL:https://laubach-online.de/events/sommerfest-im-familienzentrum/
SUMMARY:Sommerfest im Familienzentrum
DESCRIPTION:Der Frühling ist da\, und das bedeutet: Es ist Zeit für unser
  großes Sommerfest im Familienzentrum Alter Bahnhof! Am Samstag\, 24. Mai
  2025 von 14:00 bis 18:00 Uhr laden wir alle Familien\, Kinder und Interes
 sierten herzlich ein\, gemeinsam einen schönen Tag voller Spaß\, Informa
 tion und Gemeinschaft zu erleben.\n\nDas Familienzentrum Alter Bahnhof in 
 Laubach hat sich zwei Jahre nach der Eröffnung zu einem festen sozialen T
 reffpunkt für alle Generationen entwickelt. Es ist ein Ort\, an dem Mensc
 hen jeden Alters zusammenkommen\, um sich auszutauschen\, zu unterstützen
 \, beraten zu lassen und gemeinsam besondere Momente zu erleben. Das Somme
 rfest wollen wir als Anlass nehmen\, um über unsere Arbeit zu informieren
 . Unsere Partner\, verschiedene Beratungsstellen und freie Träger stellen
  sich vor. Darunter die Sozialarbeit an Schulen von der AWO Perspektiven g
 GmbH\, der Verein für Psychosoziale Therapie eV. (VPST)\, die ergänzende
  unabhängige Teilhabeberatung (EUTB)\, die Gemeinwesenarbeit in Laubach\,
  der Seniorenbeirat und die Gemeindepflege stehen für Beratung und Gespr
 äche bereit.\n\nFür Kinder wird es tolle Aktionen\, Spiele\, Kreativange
 bote und eine große Piratenschiff-Hüpfburg geben. Um das leibliche Wohl 
 kümmert sich der Verein „gemeinsam STARK“ und A&amp\;O Catering mit l
 eckerem Essen und Getränke.\n\nMit der Beteiligungsaktion Graphic-Recordi
 ng\, organisiert von der Gemeinwesenarbeit und dem Kinder- und Jugendbüro
 \, haben die Besucherinnen und Besucher die Möglichkeit\, ihre Ideen und 
 Anregungen zur Gestaltung des Außenbereiches sowie der Angebotsstruktur r
 und um den Alten Bahnhof zu äußern. Diese werden dann durch Frau Janina 
 Röhrig\, die eine freiberufliche Illustratorin und Grafik-Designerin mit 
 mehr als 20 Jahren Berufserfahrung ist\, in Form eines Graphic-Recordings 
 bildlich festgehalten.\n\nAn diesem Tag ist ebenfalls das Repair Café ge
 öffnet und lädt ein für kleine Reparaturen\, zum Fachsimpeln und süße
  Leckereien zur Kaffeepause. Ehrenamtliche Reparateure bieten kostenfrei k
 leine Reparaturen in folgenden Bereichen an: Elektronik (z.B. Musikanlagen
 \, Küchengeräte\, Lampen\, TV)\, Mechanik (z.B. Rasenmäher\, Haushaltsg
 eräte)\, Fahrräder IT (z.B. Computer\, Tablets\, Smartphones\, Drucker)\
 , Holz (z.B. Holzfiguren\, Spielzeug). Sollten Sie Interesse an Reparature
 n haben\, wird um Anmeldung bei der Koordinatorin für Gemeinwesenarbeit\,
  Annika Sturm\, gebeten (01 51/ 63 30 51 60 oder gwa-laubach@zaug.de). Unt
 erstützt wird das Angebot durch das Repair-Café in Pohlheim\, das Mehrge
 nerationenhaus der Oberhessischen Diakonie\, die Stadt Laubach sowie durch
  den Seniorenbeirat.\n\nEin weiterer Höhepunkt wird das Digital.Mobil sei
 n. Der Landkreis Gießen informiert im Rahmen des Projektes „Smartes Gie
 ßener Land“ mit seinem Digital.Mobil über digitale Innovation und digi
 tale Teilhabe. Das Fahrzeug wird zu einem mobilen Raum\, in dem man zum Be
 ispiel mit speziellen Brillen in die Welt der Virtual Reality eintauchen k
 ann. Experten der Kreisvolkshochschule geben Tipps zu digitalen Themen. Es
  gibt offene Gespräche zu Themen wie „Vernetzung/Smart Home“\, also w
 ie man Geräte im Haushalt miteinander verbindet und smarte Helfer im Allt
 ag nutzt\, sowie „Oma geht online“\, bei dem älteren Menschen beim Um
 gang mit Smartphone\, Tablet und Co. geholfen wird. Außerdem können Besu
 cher in kleinen Gruppen über Themen wie Gesundheit im digitalen Zeitalter
 \, Künstliche Intelligenz\, Virtual Reality und Technologien zur Unterst
 ützung älterer Menschen sprechen. Es werden auch Systeme gezeigt\, die 
 älteren oder eingeschränkten Menschen im Alltag helfen\, sowie Anwendung
 en im Bereich E-Health und Umweltüberwachung.
ATTACH;FMTTYPE=image/jpeg:https://laubach-online.de/wp-content/uploads/202
 5/04/Sommerfest-Flyer.jpg
CATEGORIES:Märkte &amp; Feste
LOCATION:Alter Bahnhof\, Bahnhofstraße 33\, 35321 Laubach\, Deutschland
GEO:50.541713;8.984776
X-APPLE-STRUCTURED-LOCATION;VALUE=URI;X-ADDRESS=Bahnhofstraße 33\, 35321 L
 aubach\, Deutschland;X-APPLE-RADIUS=100;X-TITLE=Alter Bahnhof:geo:50.54171
 3,8.984776
END:VEVENT
END:VCALENDAR