BEGIN:VCALENDAR
VERSION:2.0
PRODID:-//wp-events-plugin.com//7.2.1//EN
TZID:Europe/Berlin
X-WR-TIMEZONE:Europe/Berlin
BEGIN:VEVENT
UID:1380@laubach-online.de
DTSTART:20250722T100000Z
DTEND:20250722T120000Z
DTSTAMP:20250702T074907Z
URL:https://laubach-online.de/events/sprechstunde-der-gemeindepflegerin-in
 -altenhain-4/
SUMMARY:Sprechstunde der Gemeindepflegerin in Altenhain
DESCRIPTION:Sie möchten erfahren\, welche Angebote es gibt\, um gut betreu
 t in den eigenen vier Wänden leben können?\nEine Anmeldung für die Spre
 chstunde ist nicht notwendig. Telefonisch ist Frau Jordan unter:\n0175 605
 7 022 und per Mail unter: n.jordan@laubach-online.de erreichbar.
LOCATION:Dorfgemeinschaftshaus Altenhain\, Vogelsbergstraße 34\, 35321 Lau
 bach\, Deutschland
GEO:50.562474;9.107156
X-APPLE-STRUCTURED-LOCATION;VALUE=URI;X-ADDRESS=Vogelsbergstraße 34\, 3532
 1 Laubach\, Deutschland;X-APPLE-RADIUS=100;X-TITLE=Dorfgemeinschaftshaus A
 ltenhain:geo:50.562474,9.107156
END:VEVENT
END:VCALENDAR