BEGIN:VCALENDAR
VERSION:2.0
PRODID:-//wp-events-plugin.com//7.2.1//EN
TZID:Europe/Berlin
X-WR-TIMEZONE:Europe/Berlin
BEGIN:VEVENT
UID:1136@laubach-online.de
DTSTART:20250311T100000Z
DTEND:20250311T120000Z
DTSTAMP:20250218T134004Z
URL:https://laubach-online.de/events/sprechstunde-der-gemeindepflegerin-in
 -freienseen-in-der-dorfschmiede-freienseen-3/
SUMMARY:Sprechstunde der Gemeindepflegerin in Freienseen\, in der Dorfschmi
 ede Freienseen
DESCRIPTION:Sie möchten erfahren\, welche Angebote es gibt\, um gut betreu
 t in den eigenen vier Wänden leben können?\nEine Anmeldung für die Spre
 chstunde ist nicht notwendig. Telefonisch ist Frau Jordan unter: 0175 6057
  022 und per Mail unter: N.Jordan@laubach-online.de erreichbar.
LOCATION:Dorfschmiede Freienseen\, Alsfelder Straße 9\, 35321 Laubach\, De
 utschland
GEO:50.561515;9.045649
X-APPLE-STRUCTURED-LOCATION;VALUE=URI;X-ADDRESS=Alsfelder Straße 9\, 35321
  Laubach\, Deutschland;X-APPLE-RADIUS=100;X-TITLE=Dorfschmiede Freienseen:
 geo:50.561515,9.045649
END:VEVENT
END:VCALENDAR