BEGIN:VCALENDAR
VERSION:2.0
PRODID:-//wp-events-plugin.com//7.2.1//EN
TZID:Europe/Berlin
X-WR-TIMEZONE:Europe/Berlin
BEGIN:VEVENT
UID:1143@laubach-online.de
DTSTART:20250326T100000Z
DTEND:20250326T120000Z
DTSTAMP:20250218T135205Z
URL:https://laubach-online.de/events/sprechstunde-der-gemeindepflegerin-in
 -gonterskirchen-im-dgh-ortsvorsteherraum/
SUMMARY:Sprechstunde der Gemeindepflegerin in Gonterskirchen\, im DGH\, Ort
 svorsteherraum
DESCRIPTION:Sie möchten erfahren\, welche Angebote es gibt\, um gut betreu
 t in den eigenen vier Wänden leben können?\nEine Anmeldung für die Spre
 chstunde ist nicht notwendig. Telefonisch ist Frau Jordan unter: 0175 6057
  022 und per Mail unter: N.Jordan@laubach-online.de erreichbar.
LOCATION:Dorfgemeinschaftshaus Gonterskirchen\, Mittelgasse\, 35321 Laubach
 \, Deutschland
GEO:50.515545;9.023603
X-APPLE-STRUCTURED-LOCATION;VALUE=URI;X-ADDRESS=Mittelgasse\, 35321 Laubach
 \, Deutschland;X-APPLE-RADIUS=100;X-TITLE=Dorfgemeinschaftshaus Gonterskir
 chen:geo:50.515545,9.023603
END:VEVENT
END:VCALENDAR