BEGIN:VCALENDAR
VERSION:2.0
PRODID:-//wp-events-plugin.com//7.2.1//EN
TZID:Europe/Berlin
X-WR-TIMEZONE:Europe/Berlin
BEGIN:VEVENT
UID:1112@laubach-online.de
DTSTART:20250218T100000Z
DTEND:20250218T120000Z
DTSTAMP:20250130T153458Z
URL:https://laubach-online.de/events/sprechstunde-der-gemeindepflegerin-in
 -laubach-im-familienzentrum-alter-bahnhof/
SUMMARY:Sprechstunde der Gemeindepflegerin in Laubach\, im Familienzentrum 
 Alter Bahnhof
DESCRIPTION:Sprechstunde der Gemeindepflegerin\nSie möchten erfahren\, wel
 che Angebote es gibt\, um gut betreut in den eigenen vier Wänden leben k
 önnen?\nNadine Jordan bemüht sich darum\, dass die Menschen möglichst l
 ange und gut versorgt zu Hause leben können.\nDabei führt die Gemeindepf
 legerin selbst keine Pflegeleistungen durch\, sondern vermittelt und kümm
 ert sich allgemein um die Bedürfnisse der Menschen und unterstützt auch 
 bei Antragstellungen\, wie zum Beispiel einem Pflegegrad-Antrag.\nDas Ange
 bot richtet sich an Seniorinnen und Senioren sowie deren Angehörige in de
 r Großgemeinde Laubach und an alle\, die sich über das Angebot informier
 en möchten. Eine Anmeldung für die Sprechstunde ist nicht notwendig.\nDi
 e Unterstützung der Gemeindepflegerin ist ein für Sie kostenfreies Angeb
 ot und wird vom Land Hessen gefördert.\nTelefonisch ist Frau Jordan unter
 : 0175 6057 022 und per Mail unter: N.Jordan@laubach-online.de erreichbar.
LOCATION:Alter Bahnhof\, Bahnhofstraße 33\, 35321 Laubach\, Deutschland
GEO:50.541713;8.984776
X-APPLE-STRUCTURED-LOCATION;VALUE=URI;X-ADDRESS=Bahnhofstraße 33\, 35321 L
 aubach\, Deutschland;X-APPLE-RADIUS=100;X-TITLE=Alter Bahnhof:geo:50.54171
 3,8.984776
END:VEVENT
END:VCALENDAR