BEGIN:VCALENDAR
VERSION:2.0
PRODID:-//wp-events-plugin.com//7.2.1//EN
TZID:Europe/Berlin
X-WR-TIMEZONE:Europe/Berlin
BEGIN:VEVENT
UID:1356@laubach-online.de
DTSTART:20250611T100000Z
DTEND:20250611T120000Z
DTSTAMP:20250512T073622Z
URL:https://laubach-online.de/events/sprechstunde-der-gemeindepflegerin-in
 -lauter-3/
SUMMARY:Sprechstunde der Gemeindepflegerin in Lauter
DESCRIPTION:Sie möchten erfahren\, welche Angebote es gibt\, um gut betreu
 t in den eigenen vier Wänden leben können?\nEine Anmeldung für die Spre
 chstunde ist nicht notwendig. Telefonisch ist Frau Jordan unter:\n0175 605
 7 022 und per Mail unter: n.jordan@laubach-online.de erreichbar.
LOCATION:Ev. Gemeindehaus Lauter\, Lautertalstraße 38\, Laubach\, 35321\, 
 Deutschland
GEO:50.569535;8.965429
X-APPLE-STRUCTURED-LOCATION;VALUE=URI;X-ADDRESS=Lautertalstraße 38\, Lauba
 ch\, 35321\, Deutschland;X-APPLE-RADIUS=100;X-TITLE=Ev. Gemeindehaus Laute
 r:geo:50.569535,8.965429
END:VEVENT
END:VCALENDAR