BEGIN:VCALENDAR
VERSION:2.0
PRODID:-//wp-events-plugin.com//7.2.1//EN
TZID:Europe/Berlin
X-WR-TIMEZONE:Europe/Berlin
BEGIN:VEVENT
UID:1358@laubach-online.de
DTSTART:20250618T100000Z
DTEND:20250618T120000Z
DTSTAMP:20250512T074244Z
URL:https://laubach-online.de/events/sprechstunde-der-gemeindepflegerin-in
 -muenster-5/
SUMMARY:Sprechstunde der Gemeindepflegerin in Münster
DESCRIPTION:Sie möchten erfahren\, welche Angebote es gibt\, um gut betreu
 t in den eigenen vier Wänden leben können?\nEine Anmeldung für die Spre
 chstunde ist nicht notwendig. Telefonisch ist Frau Jordan unter:\n0175 605
 7 022 und per Mail unter: n.jordan@laubach-online.de erreichbar.
LOCATION:Dorfgemeinschaftshaus Münster\, Lindenstraße 12\, 35321 Laubach\
 , Hessen\, Deutschland
X-APPLE-STRUCTURED-LOCATION;VALUE=URI;X-ADDRESS=Lindenstraße 12\, 35321 La
 ubach\, Hessen\, Deutschland;X-APPLE-RADIUS=100;X-TITLE=Dorfgemeinschaftsh
 aus Münster:geo:0,0
END:VEVENT
END:VCALENDAR