BEGIN:VCALENDAR
VERSION:2.0
PRODID:-//wp-events-plugin.com//7.2.1//EN
TZID:Europe/Berlin
X-WR-TIMEZONE:Europe/Berlin
BEGIN:VEVENT
UID:1381@laubach-online.de
DTSTART:20250723T100000Z
DTEND:20250723T120000Z
DTSTAMP:20250702T074926Z
URL:https://laubach-online.de/events/sprechstunde-der-gemeindepflegerin-in
 -roethges-5/
SUMMARY:Sprechstunde der Gemeindepflegerin in Röthges
DESCRIPTION:Sie möchten erfahren\, welche Angebote es gibt\, um gut betreu
 t in den eigenen vier Wänden leben können?\nEine Anmeldung für die Spre
 chstunde ist nicht notwendig. Telefonisch ist Frau Jordan unter:\n0175 605
 7 022 und per Mail unter: n.jordan@laubach-online.de erreichbar.
LOCATION:Dorfgemeinschaftshaus Röthges\, Schulstraße 4\, 35321 Laubach\, 
 Deutschland
GEO:50.547251;9.033346
X-APPLE-STRUCTURED-LOCATION;VALUE=URI;X-ADDRESS=Schulstraße 4\, 35321 Laub
 ach\, Deutschland;X-APPLE-RADIUS=100;X-TITLE=Dorfgemeinschaftshaus Röthge
 s:geo:50.547251,9.033346
END:VEVENT
END:VCALENDAR