BEGIN:VCALENDAR
VERSION:2.0
PRODID:-//wp-events-plugin.com//7.2.1//EN
TZID:Europe/Berlin
X-WR-TIMEZONE:Europe/Berlin
BEGIN:VEVENT
UID:1135@laubach-online.de
DTSTART:20250307T100000Z
DTEND:20250307T120000Z
DTSTAMP:20250218T133703Z
URL:https://laubach-online.de/events/sprechstunde-der-gemeindepflegerin-in
 -roethges-im-dgh-unten-im-ortsvorsteherraum/
SUMMARY:Sprechstunde der Gemeindepflegerin in Röthges\, im DGH\, unten im 
 Ortsvorsteherraum
DESCRIPTION:Sie möchten erfahren\, welche Angebote es gibt\, um gut betreu
 t in den eigenen vier Wänden leben können?\nEine Anmeldung für die Spre
 chstunde ist nicht notwendig. Telefonisch ist Frau Jordan unter: 0175 6057
  022 und per Mail unter: N.Jordan@laubach-online.de erreichbar.
CATEGORIES:Lesung
LOCATION:Dorfgemeinschaftshaus Röthges\, Schulstraße 4\, 35321 Laubach\, 
 Deutschland
GEO:50.547251;9.033346
X-APPLE-STRUCTURED-LOCATION;VALUE=URI;X-ADDRESS=Schulstraße 4\, 35321 Laub
 ach\, Deutschland;X-APPLE-RADIUS=100;X-TITLE=Dorfgemeinschaftshaus Röthge
 s:geo:50.547251,9.033346
END:VEVENT
END:VCALENDAR