BEGIN:VCALENDAR
VERSION:2.0
PRODID:-//wp-events-plugin.com//7.2.1//EN
TZID:Europe/Berlin
X-WR-TIMEZONE:Europe/Berlin
BEGIN:VEVENT
UID:1140@laubach-online.de
DTSTART:20250314T100000Z
DTEND:20250314T120000Z
DTSTAMP:20250218T140745Z
URL:https://laubach-online.de/events/sprechstunde-der-gemeindepflegerin-in
 -ruppertsburg-im-evangelischen-gemeindehaus-2/
SUMMARY:Sprechstunde der Gemeindepflegerin in Ruppertsburg\, im evangelisch
 en Gemeindehaus
DESCRIPTION:Sie möchten erfahren\, welche Angebote es gibt\, um gut betreu
 t in den eigenen vier Wänden leben können?\nEine Anmeldung für die Spre
 chstunde ist nicht notwendig. Telefonisch ist Frau Jordan unter: 0175 6057
  022 und per Mail unter: N.Jordan@laubach-online.de erreichbar.
END:VEVENT
END:VCALENDAR