BEGIN:VCALENDAR
VERSION:2.0
PRODID:-//wp-events-plugin.com//7.2.1//EN
TZID:Europe/Berlin
X-WR-TIMEZONE:Europe/Berlin
BEGIN:VEVENT
UID:1315@laubach-online.de
DTSTART:20250411T100000Z
DTEND:20250411T120000Z
DTSTAMP:20250313T081354Z
URL:https://laubach-online.de/events/sprechstunde-der-gemeindepflegerin-in
 -ruppertsburg/
SUMMARY:Sprechstunde der Gemeindepflegerin in Ruppertsburg
DESCRIPTION:Sie möchten erfahren\, welche Angebote es gibt\, um gut betreu
 t in den eigenen vier Wänden leben können?\nEine Anmeldung für die Spre
 chstunde ist nicht notwendig. Telefonisch ist Frau Jordan unter: \n0175 60
 57 022 und per Mail unter: N.Jordan@laubach-online.de erreichbar.
LOCATION:Ev. Gemeindehaus Ruppertsburg\, Mönchsgasse 16\, 35321 Laubach\, 
 Deutschland
GEO:50.516686;8.964351
X-APPLE-STRUCTURED-LOCATION;VALUE=URI;X-ADDRESS=Mönchsgasse 16\, 35321 Lau
 bach\, Deutschland;X-APPLE-RADIUS=100;X-TITLE=Ev. Gemeindehaus Ruppertsbur
 g:geo:50.516686,8.964351
END:VEVENT
END:VCALENDAR