BEGIN:VCALENDAR
VERSION:2.0
PRODID:-//wp-events-plugin.com//7.2.1//EN
TZID:Europe/Berlin
X-WR-TIMEZONE:Europe/Berlin
BEGIN:VEVENT
UID:1320@laubach-online.de
DTSTART:20250430T100000Z
DTEND:20250430T120000Z
DTSTAMP:20250313T081455Z
URL:https://laubach-online.de/events/sprechstunde-der-gemeindepflegerin-in
 -wetterfeld-2/
SUMMARY:Sprechstunde der Gemeindepflegerin in Wetterfeld
DESCRIPTION:Sie möchten erfahren\, welche Angebote es gibt\, um gut betreu
 t in den eigenen vier Wänden leben können?\nEine Anmeldung für die Spre
 chstunde ist nicht notwendig. Telefonisch ist Frau Jordan unter: \n0175 60
 57 022 und per Mail unter: N.Jordan@laubach-online.de erreichbar.
LOCATION:Dorfgemeinschaftshaus Wetterfeld\, Ruppertsburger Str. 3\, Wetterf
 eld\, 35321\, Deutschland
GEO:50.547523;8.955822
X-APPLE-STRUCTURED-LOCATION;VALUE=URI;X-ADDRESS=Ruppertsburger Str. 3\, Wet
 terfeld\, 35321\, Deutschland;X-APPLE-RADIUS=100;X-TITLE=Dorfgemeinschafts
 haus Wetterfeld:geo:50.547523,8.955822
END:VEVENT
END:VCALENDAR