BEGIN:VCALENDAR
VERSION:2.0
PRODID:-//wp-events-plugin.com//7.2.1//EN
TZID:Europe/Berlin
X-WR-TIMEZONE:Europe/Berlin
BEGIN:VEVENT
UID:1334@laubach-online.de
DTSTART;VALUE=DATE:20250525
DTEND;VALUE=DATE:20250615
DTSTAMP:20250407T145218Z
URL:https://laubach-online.de/events/stadtradeln/
SUMMARY:Stadtradeln
DESCRIPTION:
ATTACH;FMTTYPE=image/jpeg:https://laubach-online.de/wp-content/uploads/202
 5/04/Plakat-scaled.jpg
END:VEVENT
END:VCALENDAR