BEGIN:VCALENDAR
VERSION:2.0
PRODID:-//wp-events-plugin.com//7.2.1//EN
TZID:Europe/Berlin
X-WR-TIMEZONE:Europe/Berlin
BEGIN:VEVENT
UID:1478@laubach-online.de
DTSTART;TZID=Europe/Berlin:20260417T190000
DTEND;TZID=Europe/Berlin:20260417T220000
DTSTAMP:20260206T130318Z
URL:https://laubach-online.de/events/the-broadway-jazz-quintett-meets-kari
 n-pagmar/
SUMMARY:The Broadway-Jazz-Quintett meets Karin Pagmár
DESCRIPTION:Wenn sich samtiger Jazz\, große Filmklassiker und leidenschaft
 liche Tangos zu einer Nacht voller Emotionen verbinden\, dann ist es Zeit 
 für "Die Nacht der Filmmusik". Am 17. April 2026 verwandelt Karin Pagmár
  gemeinsam mit dem Broadway-Jazz-Quintett den Rathaussaal in Laubach in ei
 ne Bühne voller Glanz\, Nostalgie und musikalischer Magie.\nDas Konzertpr
 ogramm ist eine Hommage an die unvergesslichen Melodien der Filmgeschichte
  und des American Songbook - elegant\, mitreisend und zeitlos. Neben funke
 lnden Jazzklassikern entführen leidenschaftliche Tangos wie "Tango Nottur
 no"\; "Kiss of Fire" und "Yo soy Maria" das Publikum in eine Welt voller S
 ehnsucht\, Dramatik und Sinnlichkeit.\nMit stilvoller Bühnenpräsenz\, mu
 sikalischer Raffinesse und emotionaler Tiefe lässt Karin Pagmár jede Not
 e zum Erlebnis werden. Das Broadway-Jazz-Quintett sorgt dabei für klangli
 che Brillianz und authentischem Flair.\nEin Abend\, der Erinnerungen weckt
 \, Träume tanzen und keine Wünsche offenlässt.\nEin Muss für Liebhaber
  großer Gefühle\, glamoröser Filmmusik und zeitloser Eleganz.
ATTACH;FMTTYPE=image/jpeg:https://laubach-online.de/wp-content/uploads/202
 6/01/Karin-Pagma-1704-scaled.jpg
CATEGORIES:Konzerte
LOCATION:Rathaussaal\, Friedrichstraße 11\, Laubach\, 35321\, Deutschland
GEO:50.540895;8.991633
X-APPLE-STRUCTURED-LOCATION;VALUE=URI;X-ADDRESS=Friedrichstraße 11\, Lauba
 ch\, 35321\, Deutschland;X-APPLE-RADIUS=100;X-TITLE=Rathaussaal:geo:50.540
 895,8.991633
END:VEVENT
BEGIN:VTIMEZONE
TZID:Europe/Berlin
X-LIC-LOCATION:Europe/Berlin
BEGIN:DAYLIGHT
DTSTART:20260329T030000
TZOFFSETFROM:+0100
TZOFFSETTO:+0200
TZNAME:CEST
END:DAYLIGHT
END:VTIMEZONE
END:VCALENDAR