BEGIN:VCALENDAR
VERSION:2.0
PRODID:-//wp-events-plugin.com//7.2.1//EN
TZID:Europe/Berlin
X-WR-TIMEZONE:Europe/Berlin
BEGIN:VEVENT
UID:976@laubach-online.de
DTSTART:20240320T190000Z
DTEND:20240321T213000Z
DTSTAMP:20240229T151554Z
URL:https://laubach-online.de/events/theater-ag-auffuehrungen-am-laubach-k
 olleg/
SUMMARY:Theater-AG-Aufführungen am Laubach-Kolleg
DESCRIPTION:Herzliche Einladung zum Besuch der 1. Aufführung am 20. März\
 noder zur 2. Aufführung am 21. März 2024 der Theater-AG des Laubach-Koll
 egs.\n\nStay Inside - National Emergency !!!\n\nEinlass: 18:30 Uhr\nBeginn
 : 19:00 Uhr\nAbendkasse
ATTACH;FMTTYPE=image/jpeg:https://laubach-online.de/wp-content/uploads/202
 4/02/Kolleg.jpg
CATEGORIES:Konzerte,Lesung
END:VEVENT
END:VCALENDAR