BEGIN:VCALENDAR
VERSION:2.0
PRODID:-//wp-events-plugin.com//7.2.1//EN
TZID:Europe/Berlin
X-WR-TIMEZONE:Europe/Berlin
BEGIN:VEVENT
UID:1450@laubach-online.de
DTSTART:20251019T150000Z
DTEND:20251019T160000Z
DTSTAMP:20251001T113641Z
URL:https://laubach-online.de/events/theater-karneval-der-tiere-und-die-re
 ise-zum-glueck/
SUMMARY:Theater: Karneval der Tiere und die Reise zum Glück
DESCRIPTION:Anrührendes Tier-Theater trifft klassische Musik\n\nLena Meyer
  und Hermann Wilhelmi spielen auf dem Klavier zur schwungvollen und witzig
 en Musik von Camille Saint-Saëns „Karneval der Tiere“\, während der 
 Puppenspieler Christian Gruber ein junges und junggebliebenes Publikum in 
 die zauberhafte Welt der Tiere und Sehnsüchte entführt.\n\nDie Hühner L
 issie und Krissie wollen gerne so berühmt werden wie der Löwe und der si
 ngende Schwan. Auf der Suche nach ihm begegnen sie u.a. der Schildkröte u
 nd dem Elefanten\, dem Kuckuck und weiteren Vögeln\, den wilden Eseln\, K
 ängurus und sie besuchen das glitzernde Korallenriff\, bis sie endlich de
 n Schwan auf dem Mondsee finden. Dort erfährt ihr Wunsch eine überrasche
 nde Wandlung. Am Ende feiern die Tiere ausgelassen im Finale und tanzen de
 n CanCan mit dem Publikum. Eigene Stofftiere können mitgebracht werden.\n
 \nBringen Sie wenn möglich für die Kinder Decken oder ein Kissen mit.\n\
 nDie Aufführung findet am Sonntag\, den 19. Oktober von 15:00 bis 16:00 U
 hr im Rathaussaal der Stadt Laubach für die ganze Familie statt.\nDer Ein
 tritt kostet 3\,00€ für Kinder und 6\,00€ für Erwachsene.\n\nKarten 
 sind im Vorverkauf\, im Kinder- und Jugendbüro der Stadt Laubach\, Bahnho
 fstraße 33 im Alten Bahnhof zu folgenden Terminen erhältlich:\n- Donners
 tag\, 02.10. 17-18 Uhr\n- Montag\, 06.10. 15-17 Uhr\n- Dienstag\, 07.10. 1
 5-16 Uhr\n- Mittwoch\, 08.10. 10-11 Uhr\n- alternative Terminvereinbarung 
 unter soziales@laubach-online.de
ATTACH;FMTTYPE=image/jpeg:https://laubach-online.de/wp-content/uploads/202
 5/10/Plakat-Karneval-der-Tiere-2025.png
CATEGORIES:Konzerte
LOCATION:Rathaussaal\, Friedrichstraße 11\, Laubach\, 35321\, Deutschland
GEO:50.540895;8.991633
X-APPLE-STRUCTURED-LOCATION;VALUE=URI;X-ADDRESS=Friedrichstraße 11\, Lauba
 ch\, 35321\, Deutschland;X-APPLE-RADIUS=100;X-TITLE=Rathaussaal:geo:50.540
 895,8.991633
END:VEVENT
END:VCALENDAR