BEGIN:VCALENDAR
VERSION:2.0
PRODID:-//wp-events-plugin.com//7.2.1//EN
TZID:Europe/Berlin
X-WR-TIMEZONE:Europe/Berlin
BEGIN:VEVENT
UID:1053@laubach-online.de
DTSTART:20240922T143000Z
DTEND:20240922T153000Z
DTSTAMP:20240829T082332Z
URL:https://laubach-online.de/events/theaterperformance-stadt-land-angstha
 se/
SUMMARY:Theaterperformance \\\\\\"Stadt Land Angsthase\\\\\\"
DESCRIPTION:Der in Laubach geborene Schauspieler und Regisseur\, Martin Cla
 usen\,\nkehrt für eine ganz besondere Theaterperformance in seinen Geburt
 sort zurück.\nGemeinsam mit Rafał Dziemidok und Katrin Hentschel konzipi
 erte er\,\nbasierend auf den Geschichten „Die Landmaus und die Stadtmaus
 “ sowie „Der kleine Angsthase“ von Elizabeth Shaw\,\nein Theaterstü
 ck\, das sich an alle Altersgruppen ab 8 Jahren richtet und mit Musik und 
 Tanz dazu anregt\,\nVerständnis für andere Lebenskonzepte zu entwickeln 
 und gemeinsam aktiv zu werden\, um das Miteinander positiv zu gestalten.\n
 Es appelliert an die Zuschauenden\, sich den eigenen Ängsten zu stellen u
 nd den Mut aufzubringen\,\nan der Entwicklung einer Vision von Morgen mitz
 uwirken.\n-Eine Veranstaltung der Gemeinwesenarbeit Laubach und Power e.V.
 -
ATTACH;FMTTYPE=image/jpeg:https://laubach-online.de/wp-content/uploads/202
 4/08/stadt-land-angsthase-v2-klein.png
CATEGORIES:Konzerte
LOCATION:Schlossparkbühne am Kiosk\, Andree Allee\, Laubach\, Deutschland\
 , 35321\, Deutschland
GEO:50.550407;8.988929
X-APPLE-STRUCTURED-LOCATION;VALUE=URI;X-ADDRESS=Andree Allee\, Laubach\, De
 utschland\, 35321\, Deutschland;X-APPLE-RADIUS=100;X-TITLE=Schlossparkbüh
 ne am Kiosk:geo:50.550407,8.988929
END:VEVENT
END:VCALENDAR