BEGIN:VCALENDAR
VERSION:2.0
PRODID:-//wp-events-plugin.com//7.2.1//EN
TZID:Europe/Berlin
X-WR-TIMEZONE:Europe/Berlin
BEGIN:VEVENT
UID:1336@laubach-online.de
DTSTART:20250510T100000Z
DTEND:20250510T150000Z
DTSTAMP:20250414T091857Z
URL:https://laubach-online.de/events/tour-in-den-mai/
SUMMARY:„Tour in den Mai“
DESCRIPTION:Das Kultur- und Tourismusbüro hat mit den zwei Radwegbeauftrag
 ten der Stadt Laubach – Hagen Hartmann und Marco Schindler - eine schön
 e „Tour in den Mai“ geplant. Dazu sind alle Interessierten herzlich ei
 ngeladen\, den Frühling auf unseren schönen Wegen durch Wald und Flur zu
  begrüßen. Die Tour startet am 10. Mai 2025 um 9 Uhr am Marktplatz in La
 ubach und führt mit den ersten Höhenmetern über den Eichberg nach Fried
 richshütte. Durch das Horloff- und Silbachtal geht es weiter in das besch
 auliche Örtchen Stornfels.\n\nNach einer kurzen Rast mit schöner Aussich
 t – sinnvoll ist die Selbstversorgung mit einem Snack und Getränken - g
 eht es zurück auf die ursprüngliche Landstraße\, die einst von Hungen n
 ach Schotten führte\, und wird gemütlich bis nach Hungen rollen. Hier wi
 rd es ein kleines Quiz auf\n\nder Strecke geben\, „wir sind gespannt\, w
 er sich mit der Geschichte der Region auskennt“\, so Hartmann und Schind
 ler.\n\nBevor die Gruppe den Heimweg antritt\, wird es in Hungen noch eine
  kleine Verschnaufpause geben\, ehe es über den Bahnradweg zurück nach L
 aubach geht.\n\nNach Abschluss der Tour ist geplant\, dass man die Tour no
 ch mit einem gemeinsamen Beisammensein Revue passieren lässt\, Details we
 rden im Laufe der Tour geklärt.\n\n* Die Teilnahme mit dem E-Bike wird em
 pfohlen.\n\n* Die Tour führt über Asphalt\, Schotter- und Waldwege. Erfa
 hrungen mit dem E-Bike sind erforderlich\n\n* Das Tragen eines Radhelms is
 t Pflicht\n\n*Länge der Tour: ca. 35km und 450 Höhenmeter\n\n&nbsp\;\n\n
 Bitte um Anmeldung unter 06405-921321 oder tourist-info@laubach-online.de\
 , damit die Radwegebeauftragten planen können.\n\n&nbsp\;
ATTACH;FMTTYPE=image/jpeg:https://laubach-online.de/wp-content/uploads/202
 5/04/Bildschirmfoto-2025-04-14-um-09.15.02.png
CATEGORIES:Führungen
LOCATION:Markt- und Kirchplatz\, Marktplatz\, Laubach\, Deutschland
GEO:50.54235;8.99029
X-APPLE-STRUCTURED-LOCATION;VALUE=URI;X-ADDRESS=Marktplatz\, Laubach\, Deut
 schland;X-APPLE-RADIUS=100;X-TITLE=Markt- und Kirchplatz:geo:50.54235,8.99
 029
END:VEVENT
END:VCALENDAR