BEGIN:VCALENDAR
VERSION:2.0
PRODID:-//wp-events-plugin.com//7.2.1//EN
TZID:Europe/Berlin
X-WR-TIMEZONE:Europe/Berlin
BEGIN:VEVENT
UID:1006@laubach-online.de
DTSTART:20240824T100000Z
DTEND:20240824T140000Z
DTSTAMP:20240521T093750Z
URL:https://laubach-online.de/events/training-zum-sportabzeichen-2024-4/
SUMMARY:Training zum Sportabzeichen 2024
DESCRIPTION:Auch im Jahr 2024 wird bei den Laubacher Sommerbiathleten und L
 äufern fleißig für das Deutsche Sportabzeichen trainiert. Für die Spor
 tabzeichen-Prüfungen bieten die Trainer des Vereins um DOSB Sportabzeiche
 nprüfer Tom Kritzer regelmäßig Trainingseinheiten an.\n\nDieser Termin 
 ist auf dem Laubacher Radweg und der Laufbahn auf dem Sportplatz an der Sp
 ort- und Kulturhalle geplant. Bei Interesse an der Teilnahme bitte vorher 
 bei Tom Kritzer (Tel. 0163-2502756) anmelden bzw. abklären ob und ggf. wo
  der Termin stattfindet.\n\nDie Teilnahme ist kostenlos und nicht an eine 
 Vereinszugehörigkeit gebunden.\n\nZudem kann sich beim Lauftreff des SV 1
 874 Laubach jeder die nötige Ausdauer für die Laufdisziplinen holen. Jed
 en Donnerstag von 18 - 19 Uhr treffen sich Läuferinnen und Läufer sowie 
 die Walkinggruppe am Schützenhaus am Hellenberg.\n\nFür weitere Fragen z
 um Sportabzeichen oder dem Lauftreff im SV 1874 Laubach stehen Lauf-Refere
 nt Frank Hänel (frank.haenel@freenet.de\, Tel. 0176-52328576) und Sommerb
 iathlon-Referent Andreas Tempelfeld (andreas.tempelfeld@sv1874laubach.de\,
  Tel. 06405-950065) sowie DOSB Sportabzeichenprüfer Tom Kritzer (Tel. 016
 3/2502756) gerne zur Verfügung
ATTACH;FMTTYPE=image/jpeg:https://laubach-online.de/wp-content/uploads/202
 4/05/Foto-Tom-Sportabzeichen-2.jpg
CATEGORIES:Sportveranstaltungen
LOCATION:Sport- und Kulturhalle Laubach\, Felix-Klipstein-Weg 23\, Laubach\
 , 35321\, Deutschland
GEO:50.548938;8.987553
X-APPLE-STRUCTURED-LOCATION;VALUE=URI;X-ADDRESS=Felix-Klipstein-Weg 23\, La
 ubach\, 35321\, Deutschland;X-APPLE-RADIUS=100;X-TITLE=Sport- und Kulturha
 lle Laubach:geo:50.548938,8.987553
END:VEVENT
END:VCALENDAR