BEGIN:VCALENDAR
VERSION:2.0
PRODID:-//wp-events-plugin.com//7.2.1//EN
TZID:Europe/Berlin
X-WR-TIMEZONE:Europe/Berlin
BEGIN:VEVENT
UID:1007@laubach-online.de
DTSTART:20240903T163000Z
DTEND:20240903T174500Z
DTSTAMP:20240521T093816Z
URL:https://laubach-online.de/events/training-zum-sportabzeichen-2024-5/
SUMMARY:Training zum Sportabzeichen 2024
DESCRIPTION:Auch im Jahr 2024 wird bei den Laubacher Sommerbiathleten und L
 äufern fleißig für das Deutsche Sportabzeichen trainiert. Für die Spor
 tabzeichen-Prüfungen bieten die Trainer des Vereins um DOSB Sportabzeiche
 nprüfer Tom Kritzer regelmäßig Trainingseinheiten an.\n\nDie Teilnahme 
 ist kostenlos und nicht an eine Vereinszugehörigkeit gebunden.\n\nZudem k
 ann sich beim Lauftreff des SV 1874 Laubach jeder die nötige Ausdauer fü
 r die Laufdisziplinen holen. Jeden Donnerstag von 18 - 19 Uhr treffen sich
  Läuferinnen und Läufer sowie die Walkinggruppe am Schützenhaus am Hell
 enberg.\n\nFür weitere Fragen zum Sportabzeichen oder dem Lauftreff im SV
  1874 Laubach stehen Lauf-Referent Frank Hänel (frank.haenel@freenet.de\,
  Tel. 0176-52328576) und Sommerbiathlon-Referent Andreas Tempelfeld (andre
 as.tempelfeld@sv1874laubach.de\, Tel. 06405-950065) sowie DOSB Sportabzeic
 henprüfer Tom Kritzer (Tel. 0163/2502756) gerne zur Verfügung.
ATTACH;FMTTYPE=image/jpeg:https://laubach-online.de/wp-content/uploads/202
 4/05/Foto-Tom-Sportabzeichen-3.jpg
CATEGORIES:Sportveranstaltungen
LOCATION:Sport- und Kulturhalle Laubach\, Felix-Klipstein-Weg 23\, Laubach\
 , 35321\, Deutschland
GEO:50.548938;8.987553
X-APPLE-STRUCTURED-LOCATION;VALUE=URI;X-ADDRESS=Felix-Klipstein-Weg 23\, La
 ubach\, 35321\, Deutschland;X-APPLE-RADIUS=100;X-TITLE=Sport- und Kulturha
 lle Laubach:geo:50.548938,8.987553
END:VEVENT
END:VCALENDAR