BEGIN:VCALENDAR
VERSION:2.0
PRODID:-//wp-events-plugin.com//7.2.1//EN
TZID:Europe/Berlin
X-WR-TIMEZONE:Europe/Berlin
BEGIN:VEVENT
UID:1018@laubach-online.de
DTSTART:20240713T110000Z
DTEND:20240713T180000Z
DTSTAMP:20240521T095157Z
URL:https://laubach-online.de/events/traktorenausstellung-alt-trifft-neu/
SUMMARY:Traktorenausstellung ALT TRIFFT NEU
DESCRIPTION:Traktoren von gestern bis heute!\nFreigelände "In der Beune" /
  Ortsmitte in 35321 Laubach-OT Gonterskirchen\n\nInfo unter 06405/500054\,
  für Fragen und für die\, die mit Traktoren und sonstigen Fahrzeugen kom
 men möchten.
ATTACH;FMTTYPE=image/jpeg:https://laubach-online.de/wp-content/uploads/202
 4/05/DSC_0006-scaled.jpg
CATEGORIES:Märkte &amp; Feste
END:VEVENT
END:VCALENDAR