BEGIN:VCALENDAR
VERSION:2.0
PRODID:-//wp-events-plugin.com//7.2.1//EN
TZID:Europe/Berlin
X-WR-TIMEZONE:Europe/Berlin
BEGIN:VEVENT
UID:1028@laubach-online.de
DTSTART:20240628T170000Z
DTEND:20240628T190000Z
DTSTAMP:20240626T114052Z
URL:https://laubach-online.de/events/verabschiedung-der-abiturientinnen-un
 d-abiturienten-des-laubach-kollegs/
SUMMARY:Verabschiedung der Abiturientinnen und Abiturienten des Laubach-Kol
 legs
DESCRIPTION:Feierlicher Gottesdienst zur Verabschiedung der Abiturientinnen
  und Abiturienten\n\ndes Abiturjahrgangs 2024 des Laubach-Kolleg\n\nin der
  Ev. Stadtkirche Laubach mit anschl.\n\nAbiball in der Sport- und Kulturha
 lle Laubach.
ATTACH;FMTTYPE=image/jpeg:https://laubach-online.de/wp-content/uploads/202
 4/06/schule.jpg
CATEGORIES:Märkte &amp; Feste
LOCATION:Stadtkirche Laubach\, Kirchplatz\, Laubach\, Deutschland
GEO:50.542791;8.990438
X-APPLE-STRUCTURED-LOCATION;VALUE=URI;X-ADDRESS=Kirchplatz\, Laubach\, Deut
 schland;X-APPLE-RADIUS=100;X-TITLE=Stadtkirche Laubach:geo:50.542791,8.990
 438
END:VEVENT
END:VCALENDAR