BEGIN:VCALENDAR
VERSION:2.0
PRODID:-//wp-events-plugin.com//7.2.1//EN
TZID:Europe/Berlin
X-WR-TIMEZONE:Europe/Berlin
BEGIN:VEVENT
UID:1471@laubach-online.de
DTSTART:20260227T180000Z
DTEND:20260227T220000Z
DTSTAMP:20260116T101418Z
URL:https://laubach-online.de/events/vernissage-der-kunst-ag-des-laubach-k
 olleg/
SUMMARY:Vernissage der Kunst AG des Laubach Kolleg
DESCRIPTION:Vernissage der Kunst AG des Laubach-Kolleg.\nPassend zu den Bil
 dern spielt die Schulband des Laubach-Kolleg
LOCATION:Braumanufaktur Laubach\, Gerhart-Hautmann-Straße 1\, Laubach\, 35
 321\, Deutschland
GEO:50.542969;8.987482
X-APPLE-STRUCTURED-LOCATION;VALUE=URI;X-ADDRESS=Gerhart-Hautmann-Straße 1\
 , Laubach\, 35321\, Deutschland;X-APPLE-RADIUS=100;X-TITLE=Braumanufaktur 
 Laubach:geo:50.542969,8.987482
END:VEVENT
END:VCALENDAR