BEGIN:VCALENDAR
VERSION:2.0
PRODID:-//wp-events-plugin.com//7.2.1//EN
TZID:Europe/Berlin
X-WR-TIMEZONE:Europe/Berlin
BEGIN:VEVENT
UID:1529@laubach-online.de
DTSTART:20260422T180000Z
DTEND:20260422T180000Z
DTSTAMP:20260326T142940Z
URL:https://laubach-online.de/events/vernissage-fotoausstellung/
SUMMARY:Vernissage  - Fotoausstellung
DESCRIPTION:Fotoausstellung des Film u. Fotoclub Laubach e.V. von April bis
  Oktober - Vernissage am 22.04.2026 ab 18:00Uhr im Mehrgenerationenhaus La
 ubacher Stifts. Bilder können von April bis Oktober Käuflich erworben we
 rden. Der erlös wird gespendet.
ATTACH;FMTTYPE=image/jpeg:https://laubach-online.de/wp-content/uploads/202
 6/03/FFC-SCHAU-05.60-1.jpg
END:VEVENT
END:VCALENDAR