BEGIN:VCALENDAR
VERSION:2.0
PRODID:-//wp-events-plugin.com//7.2.1//EN
TZID:Europe/Berlin
X-WR-TIMEZONE:Europe/Berlin
BEGIN:VEVENT
UID:1464@laubach-online.de
DTSTART:20260122T180000Z
DTEND:20260122T193000Z
DTSTAMP:20260113T092751Z
URL:https://laubach-online.de/events/vernissage-wandstuecke/
SUMMARY:Vernissage "Wandstücke"
DESCRIPTION:Eröffnung der Ausstellung „Wandstücke" der Licher Künstler
 in Sabine Weber. Lassen Sie sich begeistern von den abstrakten\, großform
 atigen und farbenprächtigen Arbeiten einer Malerin\, die ihre Gemälde de
 n Farben und der Stimmung den Wohnräumen ihrer Kunden anpasst\, und die j
 eweilige Wohnatmosphäre auf die Bilder überträgt. Jedes Bild ein Blickf
 ang für Ihre Wohnung.\nwww.wandstuecke.de
ATTACH;FMTTYPE=image/jpeg:https://laubach-online.de/wp-content/uploads/202
 6/01/wandstuecke-vom-kunstformlaubach.jpg
LOCATION:Braumanufaktur Laubach\, Gerhart-Hautmann-Straße 1\, Laubach\, 35
 321\, Deutschland
GEO:50.542969;8.987482
X-APPLE-STRUCTURED-LOCATION;VALUE=URI;X-ADDRESS=Gerhart-Hautmann-Straße 1\
 , Laubach\, 35321\, Deutschland;X-APPLE-RADIUS=100;X-TITLE=Braumanufaktur 
 Laubach:geo:50.542969,8.987482
END:VEVENT
END:VCALENDAR