BEGIN:VCALENDAR
VERSION:2.0
PRODID:-//wp-events-plugin.com//7.2.1//EN
TZID:Europe/Berlin
X-WR-TIMEZONE:Europe/Berlin
BEGIN:VEVENT
UID:1088@laubach-online.de
DTSTART:20250104T190000Z
DTEND:20250104T220000Z
DTSTAMP:20241203T081016Z
URL:https://laubach-online.de/events/volkstheater-freienseen/
SUMMARY:Volkstheater Freienseen
DESCRIPTION:Das Volkstheater Freienseen spielt: Es fährt kein Zug nach Irg
 endwo.\nEinlass um 19 Uhr und Veranstaltungsstart 20 Uhr.\nKartenvorverkau
 f jeweils Sonntag 08. + 15.12.24 in der Heinrich Norwig Halle Freienseen\,
  10 - 12 Uhr.
ATTACH;FMTTYPE=image/jpeg:https://laubach-online.de/wp-content/uploads/202
 4/12/Theater-Freienseen-scaled.jpg
LOCATION:Heinrich Norwig Halle Freienseen\, Oberseener Weg\, 35321\, Deutsc
 hland
GEO:50.560367;9.048943
X-APPLE-STRUCTURED-LOCATION;VALUE=URI;X-ADDRESS=Oberseener Weg\, 35321\, De
 utschland;X-APPLE-RADIUS=100;X-TITLE=Heinrich Norwig Halle Freienseen:geo:
 50.560367,9.048943
END:VEVENT
END:VCALENDAR