BEGIN:VCALENDAR
VERSION:2.0
PRODID:-//wp-events-plugin.com//7.2.1//EN
TZID:Europe/Berlin
X-WR-TIMEZONE:Europe/Berlin
BEGIN:VEVENT
UID:319@laubach-online.de
DTSTART:20231203T170000Z
DTEND:20231203T193000Z
DTSTAMP:20230330T092856Z
URL:https://laubach-online.de/events/vortrag-abenteurreiter-guenter-wamser
 -und-sonja-endlweber/
SUMMARY:Vortrag Abenteurreiter Günter Wamser und Sonja Endlweber
DESCRIPTION:Durch Wüsten und Berge quer durch den Wilden Westen Amerikas\n
 - und das im Pferdesattel. Was nach einer verrückten Idee klingt\,\nist f
 ür Günter Wamser und Sonja Endlweber die Verwirklichung eines Traumes.\n
 In ihrem neuen Vortrag nehmen sie ihre Zuschauer mit auf die spannende Rei
 se
CATEGORIES:Lesung
LOCATION:Dorfgemeinschaftshaus Wetterfeld\, Ruppertsburger Str. 3\, Wetterf
 eld\, 35321\, Deutschland
GEO:50.547523;8.955822
X-APPLE-STRUCTURED-LOCATION;VALUE=URI;X-ADDRESS=Ruppertsburger Str. 3\, Wet
 terfeld\, 35321\, Deutschland;X-APPLE-RADIUS=100;X-TITLE=Dorfgemeinschafts
 haus Wetterfeld:geo:50.547523,8.955822
END:VEVENT
END:VCALENDAR