BEGIN:VCALENDAR
VERSION:2.0
PRODID:-//wp-events-plugin.com//7.2.1//EN
TZID:Europe/Berlin
X-WR-TIMEZONE:Europe/Berlin
BEGIN:VEVENT
UID:1492@laubach-online.de
DTSTART:20260224T190000Z
DTEND:20260224T203000Z
DTSTAMP:20260202T150603Z
URL:https://laubach-online.de/events/vortrag-erben-vererben-rechtssicher-v
 orsorgen-teil-2/
SUMMARY:Vortrag: Erben &amp\; Vererben - Rechtssicher vorsorgen! (Teil 2)
DESCRIPTION:Ein Vortrag mit Dipl. Rechtspfleger Marco Morgenstern zum Thema
  „Erben und Vererben - Rechtssicher vorsorgen!“.\n\nSie erhalten Infor
 mationen zu:\n- Überblick über das deutsche Erbrecht\n- Gesetzliche und 
 testamentarische Erbfolge\n- Wissenswertes zum Thema Nachlassverfahren\n\n
 Kostenfreie Veranstaltung im Rathaussaal der Stadt Laubach (Friedrichstr. 
 11).\n\nUm Anmeldung wird gebeten unter 06405-921 460 oder per Mail an soz
 iales@laubach-online.de
ATTACH;FMTTYPE=image/jpeg:https://laubach-online.de/wp-content/uploads/202
 6/02/Vortraege-Erben-Vererben.jpg
LOCATION:Rathaussaal\, Friedrichstraße 11\, Laubach\, 35321\, Deutschland
GEO:50.540895;8.991633
X-APPLE-STRUCTURED-LOCATION;VALUE=URI;X-ADDRESS=Friedrichstraße 11\, Lauba
 ch\, 35321\, Deutschland;X-APPLE-RADIUS=100;X-TITLE=Rathaussaal:geo:50.540
 895,8.991633
END:VEVENT
END:VCALENDAR