BEGIN:VCALENDAR
VERSION:2.0
PRODID:-//wp-events-plugin.com//7.2.1//EN
TZID:Europe/Berlin
X-WR-TIMEZONE:Europe/Berlin
BEGIN:VEVENT
UID:1489@laubach-online.de
DTSTART:20260218T160000Z
DTEND:20260218T180000Z
DTSTAMP:20260202T145717Z
URL:https://laubach-online.de/events/vortrag-gesunde-ernaehrung-jeden-tag-
 ein-bisschen-mehr/
SUMMARY:Vortrag: Gesunde Ernährung - jeden Tag ein bisschen mehr
DESCRIPTION:Ein Vortrag mit Vanessa Westhöfer\, Ernährungsberaterin der D
 eutschen Gesellschaft für Ernährung" zum Thema „Gesund Ernährung - je
 den Tag ein bisschen mehr“.\n\nSie erhalten Informationen zu:\n– Was b
 edeutet gesunde Ernährung?\n– Wie kann ich mich in kleinen Schritten ge
 sünder ernähren?\n– Einfache Rezepte für den Alltag\n\nKostenfreie Ve
 ranstaltung im Familienzentrum „Alter Bahnhof“ der Stadt Laubach (Bahn
 hofstr. 33).\n\nUm Anmeldung wird gebeten unter 06405-921 460 oder per Mai
 l an soziales@laubach-online.de
ATTACH;FMTTYPE=image/jpeg:https://laubach-online.de/wp-content/uploads/202
 6/02/Vortrag-Ernaehrung18.02.jpg
LOCATION:Alter Bahnhof\, Bahnhofstraße 33\, 35321 Laubach\, Deutschland
GEO:50.541713;8.984776
X-APPLE-STRUCTURED-LOCATION;VALUE=URI;X-ADDRESS=Bahnhofstraße 33\, 35321 L
 aubach\, Deutschland;X-APPLE-RADIUS=100;X-TITLE=Alter Bahnhof:geo:50.54171
 3,8.984776
END:VEVENT
END:VCALENDAR