BEGIN:VCALENDAR
VERSION:2.0
PRODID:-//wp-events-plugin.com//7.2.1//EN
TZID:Europe/Berlin
X-WR-TIMEZONE:Europe/Berlin
BEGIN:VEVENT
UID:1498@laubach-online.de
DTSTART:20260505T190000Z
DTEND:20260505T200000Z
DTSTAMP:20260206T130130Z
URL:https://laubach-online.de/events/vortrag-graphomotorik-wie-verbessere-
 ich-die-feinmotorik-meines-kindes/
SUMMARY:Vortrag: Graphomotorik - wie verbessere ich die Feinmotorik meines 
 Kindes?
DESCRIPTION:Ein Vortrag mit Ergotherapeutin Anna Maria Rink zum Thema „Gr
 aphomotorik - wie verbessere ich die Feinmotorik meines Kindes?“.\n\nSie
  erhalten Informationen zu:\n– Wie erkenne ich Bedarfe in der feinmotori
 schen Entwicklung?\n– Welche Maßnahmen kann ich ergreifen?\n– Kann ic
 h mein Kind bereits vor Schulstart unterstützen?\n\nKostenfreie Veranstal
 tung im Familienzentrum „Alter Bahnhof“ der Stadt Laubach (Bahnhofstr.
  33).\n\nUm Anmeldung wird gebeten unter 06405-921 460 oder per Mail an so
 ziales@laubach-online.de
ATTACH;FMTTYPE=image/jpeg:https://laubach-online.de/wp-content/uploads/202
 6/02/Vortrag-Graphomotorik0505.jpg
LOCATION:Alter Bahnhof\, Bahnhofstraße 33\, 35321 Laubach\, Deutschland
GEO:50.541713;8.984776
X-APPLE-STRUCTURED-LOCATION;VALUE=URI;X-ADDRESS=Bahnhofstraße 33\, 35321 L
 aubach\, Deutschland;X-APPLE-RADIUS=100;X-TITLE=Alter Bahnhof:geo:50.54171
 3,8.984776
END:VEVENT
END:VCALENDAR