BEGIN:VCALENDAR
VERSION:2.0
PRODID:-//wp-events-plugin.com//7.2.1//EN
TZID:Europe/Berlin
X-WR-TIMEZONE:Europe/Berlin
BEGIN:VEVENT
UID:1495@laubach-online.de
DTSTART:20260331T190000Z
DTEND:20260331T200000Z
DTSTAMP:20260206T125018Z
URL:https://laubach-online.de/events/vortrag-pflegeversicherung/
SUMMARY:Vortrag: Pflegeversicherung
DESCRIPTION:Ein Vortrag mit Gemeindepflegerin Nadine Jordan zum Thema „Pf
 legeversicherung“.\n\nSie erhalten Informationen zu:\n– Pflegegrade\n
 – Teilhabe an Pflegekosten\n– Kombinationsleistungen oder Pflegegeld\n
 \nKostenfreie Veranstaltung im Familienzentrum „Alter Bahnhof“ der Sta
 dt Laubach (Bahnhofstr. 33).\n\nUm Anmeldung wird gebeten unter 06405-921 
 460 oder per Mail an soziales@laubach-online.de
ATTACH;FMTTYPE=image/jpeg:https://laubach-online.de/wp-content/uploads/202
 6/02/Vortrag-Pflegeversicherung-3103.png
LOCATION:Alter Bahnhof\, Bahnhofstraße 33\, 35321 Laubach\, Deutschland
GEO:50.541713;8.984776
X-APPLE-STRUCTURED-LOCATION;VALUE=URI;X-ADDRESS=Bahnhofstraße 33\, 35321 L
 aubach\, Deutschland;X-APPLE-RADIUS=100;X-TITLE=Alter Bahnhof:geo:50.54171
 3,8.984776
END:VEVENT
END:VCALENDAR