BEGIN:VCALENDAR
VERSION:2.0
PRODID:-//wp-events-plugin.com//7.2.1//EN
TZID:Europe/Berlin
X-WR-TIMEZONE:Europe/Berlin
BEGIN:VEVENT
UID:1488@laubach-online.de
DTSTART:20260203T190000Z
DTEND:20260203T203000Z
DTSTAMP:20260202T123236Z
URL:https://laubach-online.de/events/vortrag-rueckenschmerzen-was-tun/
SUMMARY:Vortrag: Rückenschmerzen - was tun?
DESCRIPTION:Ein Vortrag mit Physiotherapeutin Hilde Kammer zum Thema "Rück
 enschmerzen - was tun?".\n\nSie erhalten Informationen zu:\n- Welche Grün
 de gibt es für Rückenschmerzen?\n- Warum habe ich Rückenschmerzen?\n- W
 as kann ich gegen Rückenschmerzen tun?\n\nKostenfreie Veranstaltung im Fa
 milienzentrum "Alter Bahnhof" der Stadt Laubach (Bahnhofstr. 33).\n\nUm An
 meldung wird gebeten unter 06405-921 460 oder per Mail an soziales@laubach
 -online.de
ATTACH;FMTTYPE=image/jpeg:https://laubach-online.de/wp-content/uploads/202
 6/02/KiJUBueVortrag-Rueckenschmerzen.png
LOCATION:Alter Bahnhof\, Bahnhofstraße 33\, 35321 Laubach\, Deutschland
GEO:50.541713;8.984776
X-APPLE-STRUCTURED-LOCATION;VALUE=URI;X-ADDRESS=Bahnhofstraße 33\, 35321 L
 aubach\, Deutschland;X-APPLE-RADIUS=100;X-TITLE=Alter Bahnhof:geo:50.54171
 3,8.984776
END:VEVENT
END:VCALENDAR