BEGIN:VCALENDAR
VERSION:2.0
PRODID:-//wp-events-plugin.com//7.2.1//EN
TZID:Europe/Berlin
X-WR-TIMEZONE:Europe/Berlin
BEGIN:VEVENT
UID:1497@laubach-online.de
DTSTART:20260421T190000Z
DTEND:20260421T200000Z
DTSTAMP:20260211T131408Z
URL:https://laubach-online.de/events/vortrag-wohnumfeld-fuer-hilfebeduerft
 ige-menschen/
SUMMARY:Vortrag: Wohnumfeld für hilfebedürftige Menschen
DESCRIPTION:Ein Vortrag mit Gemeindepflegerin Nadine Jordan zum Thema „Wo
 hnumfeld für hilfebedürftige Menschen“.\n\nSie erhalten Informationen 
 zu:\n– Wie sieht ein barrierefreies Wohnumfeld aus?\n– Welche Maßnahm
 en kann ich ergreifen?\n– Welche finanzielle Unterstützung kann ich erh
 alten?\n\nKostenfreie Veranstaltung im Familienzentrum „Alter Bahnhof“
  der Stadt Laubach (Bahnhofstr. 33).\n\nUm Anmeldung wird gebeten unter 06
 405-921 460 oder per Mail an soziales@laubach-online.de
ATTACH;FMTTYPE=image/jpeg:https://laubach-online.de/wp-content/uploads/202
 6/02/21.04Vortrag-Wohnumfeld-fuer-hilfebeduerftige-Menschen.png
LOCATION:Alter Bahnhof\, Bahnhofstraße 33\, 35321 Laubach\, Deutschland
GEO:50.541713;8.984776
X-APPLE-STRUCTURED-LOCATION;VALUE=URI;X-ADDRESS=Bahnhofstraße 33\, 35321 L
 aubach\, Deutschland;X-APPLE-RADIUS=100;X-TITLE=Alter Bahnhof:geo:50.54171
 3,8.984776
END:VEVENT
END:VCALENDAR