BEGIN:VCALENDAR
VERSION:2.0
PRODID:-//wp-events-plugin.com//7.2.1//EN
TZID:Europe/Berlin
X-WR-TIMEZONE:Europe/Berlin
BEGIN:VEVENT
UID:1403@laubach-online.de
DTSTART:20251120T190000Z
DTEND:20251120T203000Z
DTSTAMP:20250725T134514Z
URL:https://laubach-online.de/events/vortragsreihe-alltagswissen-bestattun
 gsvorsorge-bestattungsverfuegung/
SUMMARY:Vortragsreihe "Alltagswissen": Bestattungsvorsorge &amp\; Bestattun
 gsverfügung
DESCRIPTION:Welche Arten der Bestattungsvorsorge gibt es? Was versteht man 
 unter einer Bestattungsverfügung? Warum ist es wichtig und richtig sich s
 chon heute mit dem Thema zu beschäftigen? Der Vortrag wird durch das Best
 attungshaus Bazzone und Müller GbR begleitet. Die Veranstaltung ist koste
 nfrei. Um eine Anmeldung wird gebeten.
LOCATION:Rathaussaal\, Friedrichstraße 11\, Laubach\, 35321\, Deutschland
GEO:50.540895;8.991633
X-APPLE-STRUCTURED-LOCATION;VALUE=URI;X-ADDRESS=Friedrichstraße 11\, Lauba
 ch\, 35321\, Deutschland;X-APPLE-RADIUS=100;X-TITLE=Rathaussaal:geo:50.540
 895,8.991633
END:VEVENT
END:VCALENDAR