BEGIN:VCALENDAR
VERSION:2.0
PRODID:-//wp-events-plugin.com//7.2.1//EN
TZID:Europe/Berlin
X-WR-TIMEZONE:Europe/Berlin
BEGIN:VEVENT
UID:1404@laubach-online.de
DTSTART:20251209T183000Z
DTEND:20251209T203000Z
DTSTAMP:20250725T134621Z
URL:https://laubach-online.de/events/vortragsreihe-alltagswissen-enkeltric
 k-wie-schuetze-ich-mich-davor/
SUMMARY:Vortragsreihe "Alltagswissen": Enkeltrick - Wie schütze ich mich d
 avor?
DESCRIPTION:Welche Arten des Enkeltricks gibt es? Wie erkenne ich tückisch
 e Anrufe? Wie verhalte ich mich richtig? Der Vortrag wird durch einen fach
 kundigen Referenten der Kriminalpolizei Gießen begleitet. Die Veranstaltu
 ng ist kostenfrei. Um eine Anmeldung wird gebeten.
LOCATION:Rathaussaal\, Friedrichstraße 11\, Laubach\, 35321\, Deutschland
GEO:50.540895;8.991633
X-APPLE-STRUCTURED-LOCATION;VALUE=URI;X-ADDRESS=Friedrichstraße 11\, Lauba
 ch\, 35321\, Deutschland;X-APPLE-RADIUS=100;X-TITLE=Rathaussaal:geo:50.540
 895,8.991633
END:VEVENT
END:VCALENDAR