BEGIN:VCALENDAR
VERSION:2.0
PRODID:-//wp-events-plugin.com//7.2.1//EN
TZID:Europe/Berlin
X-WR-TIMEZONE:Europe/Berlin
BEGIN:VEVENT
UID:1402@laubach-online.de
DTSTART:20251111T183000Z
DTEND:20251111T203000Z
DTSTAMP:20250725T134529Z
URL:https://laubach-online.de/events/vortragsreihe-alltagswissen-sicheres-
 zu-hause-einbruchschutz/
SUMMARY:Vortragsreihe "Alltagswissen": Sicheres zu Hause - Einbruchschutz
DESCRIPTION:Wie mache ich mein Haus einbruchsicher? Wo befinden sich die Sc
 hwachstellen und wie kann ich diese beheben? Der Vortrag wird durch einen 
 Referenten der Kriminalpolizei Gießen begleitet. Die Veranstaltung ist ko
 stenfrei. Um eine Voranmeldung wird gebeten.
LOCATION:Rathaussaal\, Friedrichstraße 11\, Laubach\, 35321\, Deutschland
GEO:50.540895;8.991633
X-APPLE-STRUCTURED-LOCATION;VALUE=URI;X-ADDRESS=Friedrichstraße 11\, Lauba
 ch\, 35321\, Deutschland;X-APPLE-RADIUS=100;X-TITLE=Rathaussaal:geo:50.540
 895,8.991633
END:VEVENT
END:VCALENDAR