BEGIN:VCALENDAR
VERSION:2.0
PRODID:-//wp-events-plugin.com//7.2.1//EN
TZID:Europe/Berlin
X-WR-TIMEZONE:Europe/Berlin
BEGIN:VEVENT
UID:1405@laubach-online.de
DTSTART:20251212T150000Z
DTEND:20251212T170000Z
DTSTAMP:20250725T134400Z
URL:https://laubach-online.de/events/vortragsreihe-alltagswissen-sturzprae
 vention-wie-reduziere-ich-stuerze/
SUMMARY:Vortragsreihe "Alltagswissen": Sturzprävention - Wie reduziere ich
  Stürze?
DESCRIPTION:Im Alter neigen wir häufiger zu stolpern oder zu stürzen. Wie
  können wir dies vermeiden? Welche Muskulatur kann auch im Alter ohne gro
 ßen Aufwand trainiert werden? Welche Stolperfallen kann ich in meinem Leb
 ensraum meiden oder beseitigen? All diese Fragen beantwortet Ihnen unser f
 achkundiger Referent &amp\; Physiotherapeut Jürgen Frank. Die Veranstaltu
 ng ist kostenfrei. Eine Anmeldung ist erforderlich.\n\ns.politsch@laubach-
 online.de
LOCATION:Alter Bahnhof\, Bahnhofstraße 33\, 35321 Laubach\, Deutschland
GEO:50.541713;8.984776
X-APPLE-STRUCTURED-LOCATION;VALUE=URI;X-ADDRESS=Bahnhofstraße 33\, 35321 L
 aubach\, Deutschland;X-APPLE-RADIUS=100;X-TITLE=Alter Bahnhof:geo:50.54171
 3,8.984776
END:VEVENT
END:VCALENDAR