BEGIN:VCALENDAR
VERSION:2.0
PRODID:-//wp-events-plugin.com//7.2.1//EN
TZID:Europe/Berlin
X-WR-TIMEZONE:Europe/Berlin
BEGIN:VEVENT
UID:1399@laubach-online.de
DTSTART:20250926T160000Z
DTEND:20250926T180000Z
DTSTAMP:20250725T135006Z
URL:https://laubach-online.de/events/vortragsreihe-alltagswissen-trinken-i
 st-nicht-nur-durst-loeschen/
SUMMARY:Vortragsreihe "Alltagswissen": Trinken ist nicht nur Durst löschen
DESCRIPTION:Wie verändert sich das Trinkverhalten im Alter? Wie etabliere 
 ich ein gesundes Trinkverhalten in meinem Alltag? All diese Fragen beantwo
 rtet Ihnen eine fachkundige Beraterin von der Deutschen Gesellschaft für 
 Ernährung. Die Veranstaltung ist kostenfrei. Um eine Anmeldung wird gebet
 en.\n\ns.politsch@laubach-online.de
LOCATION:Rathaussaal\, Friedrichstraße 11\, Laubach\, 35321\, Deutschland
GEO:50.540895;8.991633
X-APPLE-STRUCTURED-LOCATION;VALUE=URI;X-ADDRESS=Friedrichstraße 11\, Lauba
 ch\, 35321\, Deutschland;X-APPLE-RADIUS=100;X-TITLE=Rathaussaal:geo:50.540
 895,8.991633
END:VEVENT
END:VCALENDAR