BEGIN:VCALENDAR
VERSION:2.0
PRODID:-//wp-events-plugin.com//7.2.1//EN
TZID:Europe/Berlin
X-WR-TIMEZONE:Europe/Berlin
BEGIN:VEVENT
UID:1401@laubach-online.de
DTSTART:20251030T180000Z
DTEND:20251030T200000Z
DTSTAMP:20250725T134542Z
URL:https://laubach-online.de/events/vortragsreihe-alltagswissen-vorsorgev
 ollmacht/
SUMMARY:Vortragsreihe "Alltagswissen": Vorsorgevollmacht
DESCRIPTION:Was sind die wichtigsten Merkmale einer Vorsorgevollmacht? Wora
 uf muss ich achten? Der Vortrag findet in Kooperation mit dem Ambulanten H
 ospizdienst und dem Oberhessischen Diakoniezentrum statt. Die Veranstaltun
 g ist kostenfrei. Um eine Anmeldung wird gebeten.
LOCATION:Rathaussaal\, Friedrichstraße 11\, Laubach\, 35321\, Deutschland
GEO:50.540895;8.991633
X-APPLE-STRUCTURED-LOCATION;VALUE=URI;X-ADDRESS=Friedrichstraße 11\, Lauba
 ch\, 35321\, Deutschland;X-APPLE-RADIUS=100;X-TITLE=Rathaussaal:geo:50.540
 895,8.991633
END:VEVENT
END:VCALENDAR