BEGIN:VCALENDAR
VERSION:2.0
PRODID:-//wp-events-plugin.com//7.2.1//EN
TZID:Europe/Berlin
X-WR-TIMEZONE:Europe/Berlin
BEGIN:VEVENT
UID:1398@laubach-online.de
DTSTART:20250916T180000Z
DTEND:20250916T190000Z
DTSTAMP:20250725T135125Z
URL:https://laubach-online.de/events/vortragsreihe-alltagswissen-wichtige-
 informationen-zur-pflegeversicherung/
SUMMARY:Vortragsreihe \\"Alltagswissen\\": Wichtige Informationen zur Pfleg
 eversicherung
DESCRIPTION:Bei diesem Vortrag erhalten Sie fachkundige Informationen durch
  unsere Gemeindepflegerin zu dem Themen:\n* Pflegegrade\n* Teilhabe an Pfl
 egekosten\n* Kombinationsleistung oder Pflegegeld\nDie Veranstaltung ist k
 ostenfrei. Um eine Anmeldung wird gebeten.\n\ns.politsch@laubach-online.de
LOCATION:Alter Bahnhof\, Bahnhofstraße 33\, 35321 Laubach\, Deutschland
GEO:50.541713;8.984776
X-APPLE-STRUCTURED-LOCATION;VALUE=URI;X-ADDRESS=Bahnhofstraße 33\, 35321 L
 aubach\, Deutschland;X-APPLE-RADIUS=100;X-TITLE=Alter Bahnhof:geo:50.54171
 3,8.984776
END:VEVENT
END:VCALENDAR