BEGIN:VCALENDAR
VERSION:2.0
PRODID:-//wp-events-plugin.com//7.2.1//EN
TZID:Europe/Berlin
X-WR-TIMEZONE:Europe/Berlin
BEGIN:VEVENT
UID:1400@laubach-online.de
DTSTART:20251021T180000Z
DTEND:20251021T200000Z
DTSTAMP:20250725T134605Z
URL:https://laubach-online.de/events/vortragsreihe-alltagswissen-wie-schue
 tze-ich-mich-vor-internetkriminalitaet/
SUMMARY:Vortragsreihe "Alltagswissen": Wie schütze ich mich vor Internetkr
 iminalität?
DESCRIPTION:Welche Tücken hat das Internet? Wie kann ich mich vor Betrüge
 rn im Netz schützen? Wo und wann muss ich besonders aufmerksam sein? Dies
 er Vortrag wird durch einen Referenten der Kriminalpolizei Gießen begleit
 et. Die Veranstaltung ist kostenfrei. Um eine Voranmeldung wird gebeten.
LOCATION:Rathaussaal\, Friedrichstraße 11\, Laubach\, 35321\, Deutschland
GEO:50.540895;8.991633
X-APPLE-STRUCTURED-LOCATION;VALUE=URI;X-ADDRESS=Friedrichstraße 11\, Lauba
 ch\, 35321\, Deutschland;X-APPLE-RADIUS=100;X-TITLE=Rathaussaal:geo:50.540
 895,8.991633
END:VEVENT
END:VCALENDAR