BEGIN:VCALENDAR
VERSION:2.0
PRODID:-//wp-events-plugin.com//7.2.1//EN
TZID:Europe/Berlin
X-WR-TIMEZONE:Europe/Berlin
BEGIN:VEVENT
UID:1393@laubach-online.de
DTSTART:20250925T190000Z
DTEND:20250925T203000Z
DTSTAMP:20250725T135045Z
URL:https://laubach-online.de/events/vortragsreihe-entwicklungsbegleitung-
 alltagsthemen-im-leben-mit-kindern-thema-bindung/
SUMMARY:Vortragsreihe "Entwicklungsbegleitung" - Alltagsthemen im Leben mit
  Kindern - Thema Bindung
DESCRIPTION:Was ist Bindung und warum ist sie für das Leben des Kindes so 
 wichtig? Unsere Kursleitung Lilli wird gemeinsam mit Ihnen das Thema nähe
 r beleuchten\, Fragen beantworten und Hilfestellungen für den Familienall
 tag geben. Eine Anmeldung ist erforderlich. Es handelt sich um ein kostenf
 reies Angebot. Am Kurstag fällt lediglich eine Materialkostenpauschale in
  Höhe von 5 Euro in bar an.\n\ns.politsch@laubach-online.de
LOCATION:Alter Bahnhof\, Bahnhofstraße 33\, 35321 Laubach\, Deutschland
GEO:50.541713;8.984776
X-APPLE-STRUCTURED-LOCATION;VALUE=URI;X-ADDRESS=Bahnhofstraße 33\, 35321 L
 aubach\, Deutschland;X-APPLE-RADIUS=100;X-TITLE=Alter Bahnhof:geo:50.54171
 3,8.984776
END:VEVENT
END:VCALENDAR