BEGIN:VCALENDAR
VERSION:2.0
PRODID:-//wp-events-plugin.com//7.2.1//EN
TZID:Europe/Berlin
X-WR-TIMEZONE:Europe/Berlin
BEGIN:VEVENT
UID:1395@laubach-online.de
DTSTART:20251009T190000Z
DTEND:20251009T203000Z
DTSTAMP:20250725T134820Z
URL:https://laubach-online.de/events/vortragsreihe-entwicklungsbegleitung-
 alltagsthemen-im-leben-mit-kindern-thema-koerper-und-geist-die-entwicklung
 -deines-kindes/
SUMMARY:Vortragsreihe "Entwicklungsbegleitung" - Alltagsthemen im Leben mit
  Kindern - Thema Körper und Geist - Die Entwicklung deines Kindes
DESCRIPTION:Der einfachste Weg dein Kind sich entwickeln zu lassen heißt f
 ür dich\, nichts zu tun. Gemeinsam mit Ihnen widmet sich unsere Kursleitu
 ng Lilli diesem Thema. Ihre persönlichen Themen können besprochen werden
  und zudem erhalten Sie wertvolle Impulse für Ihren Familienalltag. Eine 
 Anmeldung ist erforderlich. Die Veranstaltung ist kostenfrei. Am Kurstag f
 ällt lediglich eine Materialkostenpauschale in Höhe von 5 Euro in bar an
 .\n\ns.politsch@laubach-online.de
LOCATION:Alter Bahnhof\, Bahnhofstraße 33\, 35321 Laubach\, Deutschland
GEO:50.541713;8.984776
X-APPLE-STRUCTURED-LOCATION;VALUE=URI;X-ADDRESS=Bahnhofstraße 33\, 35321 L
 aubach\, Deutschland;X-APPLE-RADIUS=100;X-TITLE=Alter Bahnhof:geo:50.54171
 3,8.984776
END:VEVENT
END:VCALENDAR