BEGIN:VCALENDAR
VERSION:2.0
PRODID:-//wp-events-plugin.com//7.2.1//EN
TZID:Europe/Berlin
X-WR-TIMEZONE:Europe/Berlin
BEGIN:VEVENT
UID:1396@laubach-online.de
DTSTART:20251016T190000Z
DTEND:20251016T203000Z
DTSTAMP:20250725T134709Z
URL:https://laubach-online.de/events/vortragsreihe-entwicklungsbegleitung-
 alltagsthemen-im-leben-mit-kindern-thema-sauberkeitsentwicklung-entwicklun
 g-von-essgewohnheiten/
SUMMARY:Vortragsreihe "Entwicklungsbegleitung" - Alltagsthemen im Leben mit
  Kindern - Thema Sauberkeitsentwicklung &amp\; Entwicklung von Essgewohnhe
 iten
DESCRIPTION:Vom ersten Baden zu warum es sich lohnt zu loben\, wenn dein Ki
 nd in die Hose gemacht hat + Warum darf ein Kind essen verweigern und waru
 m isst Mama bei Frust und Langeweile? Gemeinsam mit Ihnen widmet sich unse
 re Kursleitung Lilli diesen Themen. Ihre persönlichen Fragen können besp
 rochen werden und zudem erhalten Sie wertvolle Impulse für Ihren Familien
 alltag. Eine Anmeldung ist erforderlich. Die Veranstaltung ist kostenfrei.
  Am Kurstag fällt lediglich eine Materialkostenpauschale in Höhe von 5 E
 uro in bar an.\n\ns.politsch@laubach-online.de
LOCATION:Alter Bahnhof\, Bahnhofstraße 33\, 35321 Laubach\, Deutschland
GEO:50.541713;8.984776
X-APPLE-STRUCTURED-LOCATION;VALUE=URI;X-ADDRESS=Bahnhofstraße 33\, 35321 L
 aubach\, Deutschland;X-APPLE-RADIUS=100;X-TITLE=Alter Bahnhof:geo:50.54171
 3,8.984776
END:VEVENT
END:VCALENDAR