BEGIN:VCALENDAR
VERSION:2.0
PRODID:-//wp-events-plugin.com//7.2.1//EN
TZID:Europe/Berlin
X-WR-TIMEZONE:Europe/Berlin
BEGIN:VEVENT
UID:1394@laubach-online.de
DTSTART:20251002T190000Z
DTEND:20251002T200000Z
DTSTAMP:20250725T134903Z
URL:https://laubach-online.de/events/vortragsreihe-entwicklungsbegleitung-
 alltagsthemen-im-leben-mit-kindern-thema-spiegelneuronen/
SUMMARY:Vortragsreihe "Entwicklungsbegleitung" - Alltagsthemen im Leben mit
  Kindern - Thema Spiegelneuronen
DESCRIPTION:Warum ziehen wir komische Gesichter\, wenn wir mit Babys sprech
 en? Warum öffnen wir unseren Mund\, wenn wir sie füttern? All diese Them
 en wird unsere Kursleitung Lilli gemeinsam mit Ihnen besprechen\, Ihre ind
 ividuellen Fragen beantworten und neue Impulse für den Alltag geben. Eine
  Anmeldung für diese Veranstaltung ist erforderlich. Das Angebot ist kost
 enfrei. Am Kurstag fällt lediglich eine Materialkostenpauschale in Höhe 
 von 5 Euro in bar an.\n\ns.politsch@laubach-online.de
LOCATION:Alter Bahnhof\, Bahnhofstraße 33\, 35321 Laubach\, Deutschland
GEO:50.541713;8.984776
X-APPLE-STRUCTURED-LOCATION;VALUE=URI;X-ADDRESS=Bahnhofstraße 33\, 35321 L
 aubach\, Deutschland;X-APPLE-RADIUS=100;X-TITLE=Alter Bahnhof:geo:50.54171
 3,8.984776
END:VEVENT
END:VCALENDAR