BEGIN:VCALENDAR
VERSION:2.0
PRODID:-//wp-events-plugin.com//7.2.1//EN
TZID:Europe/Berlin
X-WR-TIMEZONE:Europe/Berlin
BEGIN:VEVENT
UID:1397@laubach-online.de
DTSTART:20251023T190000Z
DTEND:20251023T203000Z
DTSTAMP:20250725T134553Z
URL:https://laubach-online.de/events/vortragsreihe-entwicklungsbegleitung-
 alltagsthemen-im-leben-mit-kindern-thema-stressige-alltagssituationen/
SUMMARY:Vortragsreihe \\"Entwicklungsbegleitung\\" - Alltagsthemen im Leben
  mit Kindern - Thema Stressige Alltagssituationen
DESCRIPTION:Herausforderndes Verhalten von Kindern verstehen und bestehen k
 önnen durch das "Erkennen"\, ist das jetzt nur Lust oder ein Grundbedürf
 nis.  Gemeinsam mit Ihnen widmet sich unsere Kursleitung Lilli diesem Them
 a. Ihre persönlichen Fragen können besprochen werden und zudem erhalten 
 Sie wertvolle Impulse für Ihren Familienalltag. Eine Anmeldung ist erford
 erlich. Die Veranstaltung ist kostenfrei. Am Kurstag fällt lediglich eine
  Materialkostenpauschale in Höhe von 5 Euro in bar an.
LOCATION:Alter Bahnhof\, Bahnhofstraße 33\, 35321 Laubach\, Deutschland
GEO:50.541713;8.984776
X-APPLE-STRUCTURED-LOCATION;VALUE=URI;X-ADDRESS=Bahnhofstraße 33\, 35321 L
 aubach\, Deutschland;X-APPLE-RADIUS=100;X-TITLE=Alter Bahnhof:geo:50.54171
 3,8.984776
END:VEVENT
END:VCALENDAR