BEGIN:VCALENDAR
VERSION:2.0
PRODID:-//wp-events-plugin.com//7.2.1//EN
TZID:Europe/Berlin
X-WR-TIMEZONE:Europe/Berlin
BEGIN:VEVENT
UID:1451@laubach-online.de
DTSTART:20251106T190000Z
DTEND:20251106T220000Z
DTSTAMP:20251023T092448Z
URL:https://laubach-online.de/events/vortragsveranstaltung-schwammstadt-la
 ubach-massnahmen-gegen-starkregen-und-hochwasser/
SUMMARY:Vortragsveranstaltung Schwammstadt Laubach Maßnahmen gegen Starkre
 gen und Hochwasser
DESCRIPTION:Vortragsveranstaltung Schwammstadt Laubach Maßnahmen gegen Sta
 rkregen und Hochwasser\n\nJeder kann und muss dazu beitragen\n\nDie dramat
 ischen Ereignisse im Juli 2021 in Westdeutschland durch Tief Bernd haben e
 s eindringlich gezeigt:\n\nDer Klimawandel ist durch die zunehmende Nieder
 schlagshäufigkeit und – intensität auch bei uns angekommen.\n\nHierzu 
 ist die Frage berechtigt:\n\nWie gut sind die Bürgerinnen und Bürger Lau
 bachs auf Hochwasser und Starkregen auf ihren Grundstücken vorbereitet?\n
 \nEs ist sinnvoll\, sich im Vorfeld veränderten Herausforderungen zu stel
 len. Hierzu gilt es Vorsorge zu treffen und sorgfältig zu planen\, im pri
 vaten wie auch im öffentlichen Bereich.\n\nKommunale Abwassersysteme sind
  für solche Regenmengen nicht ausgelegt.\n\nAber viele – manchmal nur s
 ehr begrenzte Einzelmaßnahmen – können in Summe eine große Wirkung er
 zielen.\n\nDurch die Vortragsveranstaltung soll aufgezeigt werden\, wie wi
 r alle an die Aufgabe „Minimierung der lokalen Überflutungsgefährdung
 “ herangehen und uns gemeinschaftlich vorbereiten und schützen können.
  Dabei werden das Thema Schwammstadt\, Wasserrückhaltung\, Einsatz von Zi
 sternen und Garten- und Grünanlagenumgestaltung wichtige Schwerpunkte des
  Vortrages sein.\n\nMit Michael Kühn\, Fachberater Hochwasser und Präsid
 ent der Akademie Hochwasserschutz Wiesbaden\, haben wir einen kompetenten 
 Referenten gewinnen können\, der selbst im Katastrophenschutzstab des Lan
 dkreises Limburg – Weilburg im Einsatz ist und regelmäßig für den Kat
 astrophenschutz\, den Verantwortlichen in den Landkreisen\, Städten und K
 ommunen solche Schulungen und Seminare anbietet.\n\nTermin:       Donn
 erstag\, den 06.11.2025\n\nOrt:               Rathaus Stadt L
 aubach\, Friedrichstr. 11\, Sitzungssaal\n\nReferent:     Michael Kühn
 \, Präsident der Akademie Hochwasserschutz \n\n             
          Wiesbaden                    \n\n  
                     Fachberater Hochwasser\n\nBeginn: 
        19:00 Uhr\n\nEnde:           22:00 Uhr\n\n
ATTACH;FMTTYPE=image/jpeg:https://laubach-online.de/wp-content/uploads/202
 5/10/Vortragsveranstaltung-Schwammstadt-Laubach.jpg
LOCATION:Rathaussaal\, Friedrichstraße 11\, Laubach\, 35321\, Deutschland
GEO:50.540895;8.991633
X-APPLE-STRUCTURED-LOCATION;VALUE=URI;X-ADDRESS=Friedrichstraße 11\, Lauba
 ch\, 35321\, Deutschland;X-APPLE-RADIUS=100;X-TITLE=Rathaussaal:geo:50.540
 895,8.991633
END:VEVENT
END:VCALENDAR