BEGIN:VCALENDAR
VERSION:2.0
PRODID:-//wp-events-plugin.com//7.2.1//EN
TZID:Europe/Berlin
X-WR-TIMEZONE:Europe/Berlin
BEGIN:VEVENT
UID:944@laubach-online.de
DTSTART:20231228T093000Z
DTEND:20231228T140000Z
DTSTAMP:20231215T083920Z
URL:https://laubach-online.de/events/wandern-zwischen-den-jahren/
SUMMARY:Wandern zwischen den Jahren
DESCRIPTION:Liebe Wanderfreunde\,\n\nwir die FBLL möchten Euch zu unserer 
 „Wanderung zwischen den Jahren“ einladen.\n\nStarten werden wir am „
 Heimwerkermarkt“ in Freienseen in Richtung Laubach über den Engelshäus
 er Berg\, hinab am Campingplatz vorbei\, weiter zum „Landhotel Waldhaus
 “.\n\nDort erwartet uns eine Gemüsesuppe (mit oder ohne Würstchen) und
  Getränke. Nachdem wir uns gestärkt haben\, geht es über den Gaulskopf 
 wieder zurück nach Freienseen.\n\nWann: 28.12.2023\n\nStartbeginn: 09.30 
 Uhr\n\nEnde: ca. 14.00 Uhr\n\nZur Strecke: 12\,20 km mittelschwere Wanderu
 ng.\n\nKostenbeteiligung für die Gemüsesuppe mit einem Getränk: 9\,00 
 €/Person\n\nDie Kostenbeteiligung wird vor dem Startbeginn eingesammelt.
 \n\nAnmeldungen per Mail bitte bis spätestens 22.12.2023\n\nKontaktdaten 
 Ansprechperson: Michael Hofmann\n\nMailadresse: michael-hofmann-2023@web.d
 e\n\nJeder Teilnehmer wandert auf eigene Verantwortung.\n\nDie Wanderung 
 wird nur bei sehr schlechten Wetterverhältnissen abgesagt. \n\n 
ATTACH;FMTTYPE=image/jpeg:https://laubach-online.de/wp-content/uploads/202
 0/12/laubach-tourismus-wandern-uebersicht-aktiv.jpg
CATEGORIES:Sportveranstaltungen
END:VEVENT
END:VCALENDAR